BEGIN:VCALENDAR
VERSION:2.0
PRODID:-//Garagenrösterei - ECPv6.15.20//NONSGML v1.0//EN
CALSCALE:GREGORIAN
METHOD:PUBLISH
X-WR-CALNAME:Garagenrösterei
X-ORIGINAL-URL:https://xn--garagenrsterei-2pb.com
X-WR-CALDESC:Veranstaltungen für Garagenrösterei
REFRESH-INTERVAL;VALUE=DURATION:PT1H
X-Robots-Tag:noindex
X-PUBLISHED-TTL:PT1H
BEGIN:VTIMEZONE
TZID:Europe/Berlin
BEGIN:DAYLIGHT
TZOFFSETFROM:+0100
TZOFFSETTO:+0200
TZNAME:CEST
DTSTART:20240331T010000
END:DAYLIGHT
BEGIN:STANDARD
TZOFFSETFROM:+0200
TZOFFSETTO:+0100
TZNAME:CET
DTSTART:20241027T010000
END:STANDARD
BEGIN:DAYLIGHT
TZOFFSETFROM:+0100
TZOFFSETTO:+0200
TZNAME:CEST
DTSTART:20250330T010000
END:DAYLIGHT
BEGIN:STANDARD
TZOFFSETFROM:+0200
TZOFFSETTO:+0100
TZNAME:CET
DTSTART:20251026T010000
END:STANDARD
BEGIN:DAYLIGHT
TZOFFSETFROM:+0100
TZOFFSETTO:+0200
TZNAME:CEST
DTSTART:20260329T010000
END:DAYLIGHT
BEGIN:STANDARD
TZOFFSETFROM:+0200
TZOFFSETTO:+0100
TZNAME:CET
DTSTART:20261025T010000
END:STANDARD
END:VTIMEZONE
BEGIN:VEVENT
DTSTART;TZID=Europe/Berlin:20251106T140000
DTEND;TZID=Europe/Berlin:20251106T180000
DTSTAMP:20260423T191346
CREATED:20250814T111715Z
LAST-MODIFIED:20251102T134118Z
UID:801-1762437600-1762452000@xn--garagenrsterei-2pb.com
SUMMARY:Rösttag
DESCRIPTION:Der Röster läuft\, schaut gerne vorbei\, zum Probieren und Kaufen.
URL:https://xn--garagenrsterei-2pb.com/event/roesttag-3/
LOCATION:Garagenrösterei\, Raiffeisenstr.8\, Bad Abbach\, Bayern\, 93077\, Deutschland
CATEGORIES:Rösttage
END:VEVENT
BEGIN:VEVENT
DTSTART;TZID=Europe/Berlin:20251107T120000
DTEND;TZID=Europe/Berlin:20251107T180000
DTSTAMP:20260423T191346
CREATED:20251016T181523Z
LAST-MODIFIED:20251016T181523Z
UID:812-1762516800-1762538400@xn--garagenrsterei-2pb.com
SUMMARY:Rösttag
DESCRIPTION:Der Röster läuft\, schaut gerne vorbei\, zum Probieren und Kaufen.
URL:https://xn--garagenrsterei-2pb.com/event/roesttag-8/
LOCATION:Garagenrösterei\, Raiffeisenstr.8\, Bad Abbach\, Bayern\, 93077\, Deutschland
CATEGORIES:Rösttage
END:VEVENT
BEGIN:VEVENT
DTSTART;TZID=Europe/Berlin:20251108T080000
DTEND;TZID=Europe/Berlin:20251108T120000
DTSTAMP:20260423T191346
CREATED:20251016T181558Z
LAST-MODIFIED:20251016T181558Z
UID:814-1762588800-1762603200@xn--garagenrsterei-2pb.com
SUMMARY:Rösttag
DESCRIPTION:Der Röster läuft\, schaut gerne vorbei\, zum Probieren und Kaufen.
URL:https://xn--garagenrsterei-2pb.com/event/roesttag-9/
LOCATION:Garagenrösterei\, Raiffeisenstr.8\, Bad Abbach\, Bayern\, 93077\, Deutschland
CATEGORIES:Rösttage
END:VEVENT
BEGIN:VEVENT
DTSTART;TZID=Europe/Berlin:20251114T140000
DTEND;TZID=Europe/Berlin:20251114T180000
DTSTAMP:20260423T191346
CREATED:20250814T111757Z
LAST-MODIFIED:20251106T153006Z
UID:803-1763128800-1763143200@xn--garagenrsterei-2pb.com
SUMMARY:Rösttag
DESCRIPTION:Der Röster läuft\, schaut gerne vorbei\, zum Probieren und Kaufen.
URL:https://xn--garagenrsterei-2pb.com/event/roesttag-4/
LOCATION:Garagenrösterei\, Raiffeisenstr.8\, Bad Abbach\, Bayern\, 93077\, Deutschland
CATEGORIES:Rösttage
END:VEVENT
END:VCALENDAR