BEGIN:VCALENDAR
VERSION:2.0
PRODID:-//Garagenrösterei - ECPv6.15.20//NONSGML v1.0//EN
CALSCALE:GREGORIAN
METHOD:PUBLISH
X-ORIGINAL-URL:https://xn--garagenrsterei-2pb.com
X-WR-CALDESC:Veranstaltungen für Garagenrösterei
REFRESH-INTERVAL;VALUE=DURATION:PT1H
X-Robots-Tag:noindex
X-PUBLISHED-TTL:PT1H
BEGIN:VTIMEZONE
TZID:Europe/Berlin
BEGIN:DAYLIGHT
TZOFFSETFROM:+0100
TZOFFSETTO:+0200
TZNAME:CEST
DTSTART:20250330T010000
END:DAYLIGHT
BEGIN:STANDARD
TZOFFSETFROM:+0200
TZOFFSETTO:+0100
TZNAME:CET
DTSTART:20251026T010000
END:STANDARD
BEGIN:DAYLIGHT
TZOFFSETFROM:+0100
TZOFFSETTO:+0200
TZNAME:CEST
DTSTART:20260329T010000
END:DAYLIGHT
BEGIN:STANDARD
TZOFFSETFROM:+0200
TZOFFSETTO:+0100
TZNAME:CET
DTSTART:20261025T010000
END:STANDARD
BEGIN:DAYLIGHT
TZOFFSETFROM:+0100
TZOFFSETTO:+0200
TZNAME:CEST
DTSTART:20270328T010000
END:DAYLIGHT
BEGIN:STANDARD
TZOFFSETFROM:+0200
TZOFFSETTO:+0100
TZNAME:CET
DTSTART:20271031T010000
END:STANDARD
END:VTIMEZONE
BEGIN:VEVENT
DTSTART;TZID=Europe/Berlin:20260424T120000
DTEND;TZID=Europe/Berlin:20260424T180000
DTSTAMP:20260421T154007
CREATED:20251015T162446Z
LAST-MODIFIED:20260222T141609Z
UID:810-1777032000-1777053600@xn--garagenrsterei-2pb.com
SUMMARY:Rösttag
DESCRIPTION:Der Röster läuft\, schaut gerne vorbei\, zum Probieren und Kaufen.
URL:https://xn--garagenrsterei-2pb.com/event/roesttag-7/
LOCATION:Garagenrösterei\, Raiffeisenstr.8\, Bad Abbach\, Bayern\, 93077\, Deutschland
CATEGORIES:Rösttage
END:VEVENT
BEGIN:VEVENT
DTSTART;TZID=Europe/Berlin:20260425T080000
DTEND;TZID=Europe/Berlin:20260425T120000
DTSTAMP:20260421T154007
CREATED:20260222T141714Z
LAST-MODIFIED:20260222T141714Z
UID:855-1777104000-1777118400@xn--garagenrsterei-2pb.com
SUMMARY:Rösttag
DESCRIPTION:Der Röster läuft\, schaut gerne vorbei\, zum Probieren und Kaufen.
URL:https://xn--garagenrsterei-2pb.com/event/roesttag-11/
LOCATION:Garagenrösterei\, Raiffeisenstr.8\, Bad Abbach\, Bayern\, 93077\, Deutschland
CATEGORIES:Rösttage
END:VEVENT
BEGIN:VEVENT
DTSTART;TZID=Europe/Berlin:20260515T120000
DTEND;TZID=Europe/Berlin:20260515T180000
DTSTAMP:20260421T154007
CREATED:20250122T144444Z
LAST-MODIFIED:20260403T054800Z
UID:763-1778846400-1778868000@xn--garagenrsterei-2pb.com
SUMMARY:Rösttag
DESCRIPTION:Der Röster läuft\, schaut gerne vorbei\, zum Probieren und Kaufen.
URL:https://xn--garagenrsterei-2pb.com/event/roesttag-14/
LOCATION:Garagenrösterei\, Raiffeisenstr.8\, Bad Abbach\, Bayern\, 93077\, Deutschland
CATEGORIES:Rösttage
END:VEVENT
BEGIN:VEVENT
DTSTART;TZID=Europe/Berlin:20260516T080000
DTEND;TZID=Europe/Berlin:20260516T120000
DTSTAMP:20260421T154007
CREATED:20250122T144528Z
LAST-MODIFIED:20260403T054837Z
UID:765-1778918400-1778932800@xn--garagenrsterei-2pb.com
SUMMARY:Rösttag
DESCRIPTION:Der Röster läuft\, schaut gerne vorbei\, zum Probieren und Kaufen.
URL:https://xn--garagenrsterei-2pb.com/event/roesttag-15/
LOCATION:Garagenrösterei\, Raiffeisenstr.8\, Bad Abbach\, Bayern\, 93077\, Deutschland
CATEGORIES:Rösttage
END:VEVENT
END:VCALENDAR